BEGIN:VCALENDAR
VERSION:2.0
PRODID:-//The Menorcan Cultural Society - ECPv6.15.20//NONSGML v1.0//EN
CALSCALE:GREGORIAN
METHOD:PUBLISH
X-WR-CALNAME:The Menorcan Cultural Society
X-ORIGINAL-URL:https://menorcansociety.net
X-WR-CALDESC:Events for The Menorcan Cultural Society
REFRESH-INTERVAL;VALUE=DURATION:PT1H
X-Robots-Tag:noindex
X-PUBLISHED-TTL:PT1H
BEGIN:VTIMEZONE
TZID:UTC
BEGIN:STANDARD
TZOFFSETFROM:+0000
TZOFFSETTO:+0000
TZNAME:UTC
DTSTART:20230101T000000
END:STANDARD
END:VTIMEZONE
BEGIN:VEVENT
DTSTART;TZID=UTC:20240302T110000
DTEND;TZID=UTC:20240302T140000
DTSTAMP:20260423T150808
CREATED:20240129T155120Z
LAST-MODIFIED:20240130T184858Z
UID:631-1709377200-1709388000@menorcansociety.net
SUMMARY:MENORCAN  FESTIVAL 2024
DESCRIPTION:EVERYONE IS INVITED ♦ NO ADMISSION CHARGE \n♦ MENU ♦ \nMenorcan Clam Chowder     \nPilau (Shrimp & Sausage) \n\nBaked Goods \nShirts & assorted Menorcan Gifts
URL:https://menorcansociety.net/event/menorcan-festival-2024/
LOCATION:llambias House\, St. Francis St. St. Augustine\, Fl\, 31 St. Francis St.\, St. Augustine\, FL\, 32084\, United States
END:VEVENT
BEGIN:VEVENT
DTSTART;TZID=UTC:20240309T140000
DTEND;TZID=UTC:20240309T150000
DTSTAMP:20260423T150808
CREATED:20240213T150007Z
LAST-MODIFIED:20240213T150007Z
UID:651-1709992800-1709996400@menorcansociety.net
SUMMARY:ANDRES PACETTI: A MINORCAN IN ST. AUGUSTINE
DESCRIPTION:Step back in time and hear the story of a Minorcan colonist \nand what life was like in 18th Century St. Augustine. \nPresented by: Ryan Saxon
URL:https://menorcansociety.net/event/andres-pacetti-a-minorcan-in-st-augustine/
LOCATION:XIMENEZ – FATIO HOUSE\, 20 AVILES ST.\, ST. AUGUSTINE\, FL\, 32084\, United States
END:VEVENT
BEGIN:VEVENT
DTSTART;TZID=UTC:20240310T120000
DTEND;TZID=UTC:20240310T160000
DTSTAMP:20260423T150808
CREATED:20240208T151728Z
LAST-MODIFIED:20240208T151934Z
UID:641-1710072000-1710086400@menorcansociety.net
SUMMARY:ST. AMBROSE SPRING FAIR 2024
DESCRIPTION:Enjoy this spring festival from noon-4 p.m. with live music\, food\, games and more at St. Ambrose Church in Elkton. Admission and parking are free. 6070 Church Rd.\,
URL:https://menorcansociety.net/event/st-ambrose-spring-fair-2024/
LOCATION:St. Ambrose Catholic Church\, 6070 Church Rd\, Elkton\, FL\, 32033\, United States
END:VEVENT
BEGIN:VEVENT
DTSTART;TZID=UTC:20240316T120000
DTEND;TZID=UTC:20240316T140000
DTSTAMP:20260423T150808
CREATED:20240213T150841Z
LAST-MODIFIED:20240213T150841Z
UID:656-1710590400-1710597600@menorcansociety.net
SUMMARY:MINORCAN TOLOMATO CEMETARY TOUR
DESCRIPTION:Docents will be on hand to give tours of the first Minorcan burial place \nin St. Augustine.  There are various search materials on some of the families. \nTours last about 20 minutes each.
URL:https://menorcansociety.net/event/minorcan-tolomato-cemetary-tour/
LOCATION:TOLOMATO CEMETARY\, 14 Cordova St.\, ST. AUGUSTINE\, FL\, 32084\, United States
END:VEVENT
BEGIN:VEVENT
DTSTART;TZID=UTC:20240324T130000
DTEND;TZID=UTC:20240324T170000
DTSTAMP:20260423T150808
CREATED:20240213T152443Z
LAST-MODIFIED:20240213T152443Z
UID:660-1711285200-1711299600@menorcansociety.net
SUMMARY:CANAL SYSTEM OF NEW SMYRNA
DESCRIPTION:Greg Holbrook\, Director of the New Smyrna Museum of History \nwill present information on the canal system.  The canals were \ndug by the colonists\, to be used for transportation\, drainage and \nto water crops at the colony.
URL:https://menorcansociety.net/event/canal-system-of-new-smyrna/
LOCATION:The Water Works\, 184 San Marco Ave\, ST. AUGUSTINE\, FL\, 32084\, United States
END:VEVENT
END:VCALENDAR