BEGIN:VCALENDAR
VERSION:2.0
PRODID:-//The Menorcan Cultural Society - ECPv6.15.20//NONSGML v1.0//EN
CALSCALE:GREGORIAN
METHOD:PUBLISH
X-ORIGINAL-URL:https://menorcansociety.net
X-WR-CALDESC:Events for The Menorcan Cultural Society
REFRESH-INTERVAL;VALUE=DURATION:PT1H
X-Robots-Tag:noindex
X-PUBLISHED-TTL:PT1H
BEGIN:VTIMEZONE
TZID:UTC
BEGIN:STANDARD
TZOFFSETFROM:+0000
TZOFFSETTO:+0000
TZNAME:UTC
DTSTART:20220101T000000
END:STANDARD
END:VTIMEZONE
BEGIN:VEVENT
DTSTART;TZID=UTC:20230126T130000
DTEND;TZID=UTC:20230126T140000
DTSTAMP:20260426T014402
CREATED:20230122T163225Z
LAST-MODIFIED:20230122T163225Z
UID:582-1674738000-1674741600@menorcansociety.net
SUMMARY:ST. JOHNS READS: THE MINORCAN EXPERIENCE
DESCRIPTION:Friends of the Main Library St. Augustine is pleased to welcome Angela Saxon\, Lea Craig\, and Ryan Saxon of The Minorcan Experience to discuss this very important part of St. Augustine’s cultural history. Minorcans\, the collective name given to a diverse group of Mediterranean peoples from Minorca\, as well other Balearic Islands\, Italy\, Corsica\, Greece\, and France\, arrived in St. Augustine in the eighteenth century during the British Period\, and before long became an integral part of St. Augustine’s economy\, serving as carpenters\, artisans\, sailors\, farmers\, masons\, innkeepers\, shoemakers\, and fisherman. Attendees of this presentation will learn about how these Minorcans came to live in St. Augustine\, cultural traditions they brought with them to their new home\, and how The Minorcan Experience keeps these traditions alive today. \nThis program is free and open to the public\, and will take place at The Waterworks\, 184 San Marco Ave.\, which shares a parking lot with the Main Library. Seating begins at 12:00 pm\, and the presentation starts promptly at 1:00 pm. No reservations are required. For more information\, please call the Main Library at 904-827-6940. \nSt. Johns Reads is the St. Johns County Public Library System’s annual “one book\, one community” event focused on creating a shared conversation on a selected novel. In its 18th year\, the 2023 event features a variety of programs on Buttermilk Graffiti by Edward Lee including a special visit from the author at 2 pm on Saturday\, January 14\, at the First Coast Technical College’s Character Counts Conference Center\, 2980 Collins Ave.\, St. Augustine. Buttermilk Graffiti is available to enjoy in print\, digital audiobook\, and eBook formats. \nFunding for this program was provided through a grant from Florida Humanities with funds from the National Endowment for the Humanities. Any views\, findings\, conclusions or recommendations expressed in this program do not necessarily represent those of Florida Humanities or the National Endowment for the Humanities. St. Johns Reads is generously supported by the St. Johns County Public Library System’s Friends of the Library groups. \nThe Waterworks is available through the generosity of the City of St. Augustine and the St. Johns Cultural Council.
URL:https://menorcansociety.net/event/st-johns-reads-the-minorcan-experience/
LOCATION:The Waterworks next to Main Library\, 184 San Marco Ave\, St. Augustine\, FL\, 32084\, United States
END:VEVENT
BEGIN:VEVENT
DTSTART;TZID=UTC:20230128T140000
DTEND;TZID=UTC:20230128T150000
DTSTAMP:20260426T014402
CREATED:20230122T162611Z
LAST-MODIFIED:20230122T165613Z
UID:575-1674914400-1674918000@menorcansociety.net
SUMMARY:ST. JOHNS READS: "DATIL PEPPERS AND CHEESE GRITS: MENORCAN INFLUENCES IN CUISINE" BY ANN BROWNING MASTERS
DESCRIPTION:Dr. Ann Browning Masters brings her extensive research into the Menorcan culture to the Southeast Branch Library with her talk “Datil Peppers and Cheese Grits:  Menorcan Influence in Cuisine.”  Join us Saturday\, Jan. 28\, 2023\, at 2:00pm to delve into the history of the Menorcan immigrants to Northeast Florida and the way that their cuisine has influenced our famous local dishes. \nBrought to you by the Southeast Friends of the Library.
URL:https://menorcansociety.net/event/st-johns-reads-datil-peppers-and-cheese-grits-menorcan-influences-in-cuisine-by-ann-browning-masters/
LOCATION:Southeast Branch Public Library\, 6670 US 1 South\, St. Augustine\, FL\, 32086\, United States
END:VEVENT
END:VCALENDAR