BEGIN:VCALENDAR
VERSION:2.0
PRODID:-//The Menorcan Cultural Society - ECPv6.15.20//NONSGML v1.0//EN
CALSCALE:GREGORIAN
METHOD:PUBLISH
X-WR-CALNAME:The Menorcan Cultural Society
X-ORIGINAL-URL:https://menorcansociety.net
X-WR-CALDESC:Events for The Menorcan Cultural Society
REFRESH-INTERVAL;VALUE=DURATION:PT1H
X-Robots-Tag:noindex
X-PUBLISHED-TTL:PT1H
BEGIN:VTIMEZONE
TZID:UTC
BEGIN:STANDARD
TZOFFSETFROM:+0000
TZOFFSETTO:+0000
TZNAME:UTC
DTSTART:20180101T000000
END:STANDARD
END:VTIMEZONE
BEGIN:VEVENT
DTSTART;TZID=UTC:20191019T110000
DTEND;TZID=UTC:20191019T150000
DTSTAMP:20260423T220214
CREATED:20190712T024710Z
LAST-MODIFIED:20191019T022731Z
UID:196-1571482800-1571497200@menorcansociety.net
SUMMARY:Menorcan Family Picnic
DESCRIPTION:Fried Chicken\, \nPlates\, forks & water will be provided.\nPlease provide your own beverage & chairs\nPlease bring a covered dish or a dessert\nWe need to know if you’re coming so we buy enough chicken for everyone.\nCall Lea  Craig at (904) 217 – 8350. Please call after 5 p.m.\nFees\nAdmission to Faver Dykes State Park\n\n$5 per vehicle. Please use the honor box to pay fees. Correct change is required. Limit 2-8 people per vehicle.\n$4 Single Occupant Vehicle.\n\nBring the kids. Playgrounds are available \nSandi Stratton will give a talk on the History of Pellicer Creek
URL:https://menorcansociety.net/event/menorcan-family-picnic/
LOCATION:Faver Dykes State Park\, United States
END:VEVENT
BEGIN:VEVENT
DTSTART;TZID=UTC:20191013T120000
DTEND;TZID=UTC:20191013T160000
DTSTAMP:20260423T220214
CREATED:20190328T183315Z
LAST-MODIFIED:20190927T134834Z
UID:76-1570968000-1570982400@menorcansociety.net
SUMMARY:St. Ambrose Fall Fair
DESCRIPTION:Family friendly with Good Food\, Hay Rides\, 50/50 drawings\, Entertainment\, Kids Games \nand more.
URL:https://menorcansociety.net/event/st-ambrose-fair/
LOCATION:St. Ambrose Catholic Church\, 6070 Church Rd\, Elkton\, FL\, 32033\, United States
END:VEVENT
BEGIN:VEVENT
DTSTART;TZID=UTC:20191006T140000
DTEND;TZID=UTC:20191006T150000
DTSTAMP:20260423T220214
CREATED:20190927T032132Z
LAST-MODIFIED:20190927T134719Z
UID:251-1570370400-1570374000@menorcansociety.net
SUMMARY:Floridanos and Menorcans:  Spain Still Lives Here
DESCRIPTION:Dr. Ann Browning Masters at the Hispanic Culture Film Festival \nPresentation: Dr. Ann Browning Masters – “Floridanos and Menorcans: Spain Still Lives Here”. A discussion on the presence of Spain through the Floridano and Menorcan descendants still living in Florida. Additionally\, she will provide the historical timelines of these two Hispanic groups; sharing from her writing some of the bold\, humorous\, and sometimes heart-tugging Floridano and Menorcan oral traditions. \nSunday\, October 6th at the St. Augustine Art Association 22 Marine St\, St. Augustine\, FL. Time: 2-3 p.m. \n  \nAnn Browning Masters. Dr. Ann Browning Masters is a founding board member of the Los Floridanos Society\, a heritage association for descendants of First Spanish Period settlers in St. Augustine. She is a long-time member of the Menorcan Cultural Society\, a heritage association for descendants of Italian\, Greek and Menorcan (Balearic Island) settlers who arrived in St. Augustine in 1777. Her Floridano heritage began with the 1602 marriage of Elena Gonzalez and Diego Alvarez in St. Augustine. Her Menorcan heritage includes the Greek\, Italian\, and Menorcan family names of Cercopoly\, Mabrumati\, Pacetti\, Canova\, Rogero\, and Pellicer.   Her married name of Masters is an Anglicization of the Menorcan name Mestre or Maestre. \nIn 2015 she was knighted by the St. Augustine Easter Festival for her dedication in promoting St. Augustine’s Spanish heritage.  A St. Augustine heritage native\, she is a 12th generation Floridian. \nDr. Masters is the author of Floridanos\, Menorcans\, Cattle-Whip Crackers: Poetry of St. Augustine\, published by the Florida Historical Society Press. Now in its second printing\, her book has been described by Florida Poet Laureate Peter Meinke as “…no better introduction to America’s oldest city. These poems and commentaries are knowledgeable\, eloquent and affectionate\, capturing St. Augustine’s history\, beauty\, people\, and food\, along with its magical ambience.” Florida poet Lola Haskins has said that “Ann Browning Masters is not only an authentic Floridian but also a talented and generous writer who can bring the many voices of our past as alive as if they were sitting on our porches beside us\, right here\, right now\, telling us stories. Do. Not. Miss her. \nHer writing from this collection has been published in anthologies and journals\, read at literary and historical conferences\, recognized at the Florida Folk Festival\, and recorded for the Florida State Historical Archives.   She continues to read from her writing on Floridanos and Menorcans in the Eckerd College Road Scholar program.  She served on the Board of Directors of the St. Augustine Historical Society\, and continues as a member of its Journal of History Editorial Board. \n 
URL:https://menorcansociety.net/event/floridanos-and-menorcans-spain-still-lives-here/
LOCATION:St. Augustine Art Association\, 22 Marine St.\, St. Augustine\, Florida\, 32084
END:VEVENT
END:VCALENDAR