BEGIN:VCALENDAR
VERSION:2.0
PRODID:-//The Menorcan Cultural Society - ECPv6.15.20//NONSGML v1.0//EN
CALSCALE:GREGORIAN
METHOD:PUBLISH
X-WR-CALNAME:The Menorcan Cultural Society
X-ORIGINAL-URL:https://menorcansociety.net
X-WR-CALDESC:Events for The Menorcan Cultural Society
REFRESH-INTERVAL;VALUE=DURATION:PT1H
X-Robots-Tag:noindex
X-PUBLISHED-TTL:PT1H
BEGIN:VTIMEZONE
TZID:UTC
BEGIN:STANDARD
TZOFFSETFROM:+0000
TZOFFSETTO:+0000
TZNAME:UTC
DTSTART:20230101T000000
END:STANDARD
END:VTIMEZONE
BEGIN:VEVENT
DTSTART;TZID=UTC:20240310T120000
DTEND;TZID=UTC:20240310T160000
DTSTAMP:20260423T162333
CREATED:20240208T151728Z
LAST-MODIFIED:20240208T151934Z
UID:641-1710072000-1710086400@menorcansociety.net
SUMMARY:ST. AMBROSE SPRING FAIR 2024
DESCRIPTION:Enjoy this spring festival from noon-4 p.m. with live music\, food\, games and more at St. Ambrose Church in Elkton. Admission and parking are free. 6070 Church Rd.\,
URL:https://menorcansociety.net/event/st-ambrose-spring-fair-2024/
LOCATION:St. Ambrose Catholic Church\, 6070 Church Rd\, Elkton\, FL\, 32033\, United States
END:VEVENT
END:VCALENDAR